BEGIN:VCALENDAR
VERSION:2.0
PRODID:-//Canadian Quilters Association/Association Canadienne de la Courtepointe - ECPv6.15.20//NONSGML v1.0//EN
CALSCALE:GREGORIAN
METHOD:PUBLISH
X-ORIGINAL-URL:https://canadianquilter.com
X-WR-CALDESC:Events for Canadian Quilters Association/Association Canadienne de la Courtepointe
REFRESH-INTERVAL;VALUE=DURATION:PT1H
X-Robots-Tag:noindex
X-PUBLISHED-TTL:PT1H
BEGIN:VTIMEZONE
TZID:America/Winnipeg
BEGIN:DAYLIGHT
TZOFFSETFROM:-0600
TZOFFSETTO:-0500
TZNAME:CDT
DTSTART:20240310T080000
END:DAYLIGHT
BEGIN:STANDARD
TZOFFSETFROM:-0500
TZOFFSETTO:-0600
TZNAME:CST
DTSTART:20241103T070000
END:STANDARD
BEGIN:DAYLIGHT
TZOFFSETFROM:-0600
TZOFFSETTO:-0500
TZNAME:CDT
DTSTART:20250309T080000
END:DAYLIGHT
BEGIN:STANDARD
TZOFFSETFROM:-0500
TZOFFSETTO:-0600
TZNAME:CST
DTSTART:20251102T070000
END:STANDARD
BEGIN:DAYLIGHT
TZOFFSETFROM:-0600
TZOFFSETTO:-0500
TZNAME:CDT
DTSTART:20260308T080000
END:DAYLIGHT
BEGIN:STANDARD
TZOFFSETFROM:-0500
TZOFFSETTO:-0600
TZNAME:CST
DTSTART:20261101T070000
END:STANDARD
END:VTIMEZONE
BEGIN:VEVENT
DTSTART;VALUE=DATE:20250502
DTEND;VALUE=DATE:20250505
DTSTAMP:20260422T062126
CREATED:20250409T144757Z
LAST-MODIFIED:20250409T144757Z
UID:96856-1746144000-1746403199@canadianquilter.com
SUMMARY:Barnswallow Quilt Show
DESCRIPTION:Barnswallow Quilt Show \nAccess Event Centre Morden Manitoba
URL:https://canadianquilter.com/event/barnswallow-quilt-show-2/
LOCATION:Manitoba
CATEGORIES:Manitoba
ATTACH;FMTTYPE=image/jpeg:https://canadianquilter.com/wp-content/uploads/2025/03/quilt-poster-2025-1.jpg
ORGANIZER;CN="Barnswallow Quilters":MAILTO:pjanie67@yahoo.com
END:VEVENT
END:VCALENDAR