BEGIN:VCALENDAR
VERSION:2.0
PRODID:-//Canadian Quilters Association/Association Canadienne de la Courtepointe - ECPv6.15.20//NONSGML v1.0//EN
CALSCALE:GREGORIAN
METHOD:PUBLISH
X-WR-CALNAME:Canadian Quilters Association/Association Canadienne de la Courtepointe
X-ORIGINAL-URL:https://canadianquilter.com
X-WR-CALDESC:Events for Canadian Quilters Association/Association Canadienne de la Courtepointe
REFRESH-INTERVAL;VALUE=DURATION:PT1H
X-Robots-Tag:noindex
X-PUBLISHED-TTL:PT1H
BEGIN:VTIMEZONE
TZID:America/Toronto
BEGIN:DAYLIGHT
TZOFFSETFROM:-0500
TZOFFSETTO:-0400
TZNAME:EDT
DTSTART:20250309T070000
END:DAYLIGHT
BEGIN:STANDARD
TZOFFSETFROM:-0400
TZOFFSETTO:-0500
TZNAME:EST
DTSTART:20251102T060000
END:STANDARD
BEGIN:DAYLIGHT
TZOFFSETFROM:-0500
TZOFFSETTO:-0400
TZNAME:EDT
DTSTART:20260308T070000
END:DAYLIGHT
BEGIN:STANDARD
TZOFFSETFROM:-0400
TZOFFSETTO:-0500
TZNAME:EST
DTSTART:20261101T060000
END:STANDARD
BEGIN:DAYLIGHT
TZOFFSETFROM:-0500
TZOFFSETTO:-0400
TZNAME:EDT
DTSTART:20270314T070000
END:DAYLIGHT
BEGIN:STANDARD
TZOFFSETFROM:-0400
TZOFFSETTO:-0500
TZNAME:EST
DTSTART:20271107T060000
END:STANDARD
END:VTIMEZONE
BEGIN:VTIMEZONE
TZID:America/Vancouver
BEGIN:DAYLIGHT
TZOFFSETFROM:-0800
TZOFFSETTO:-0700
TZNAME:PDT
DTSTART:20250309T100000
END:DAYLIGHT
BEGIN:STANDARD
TZOFFSETFROM:-0700
TZOFFSETTO:-0800
TZNAME:PST
DTSTART:20251102T090000
END:STANDARD
BEGIN:DAYLIGHT
TZOFFSETFROM:-0800
TZOFFSETTO:-0700
TZNAME:PDT
DTSTART:20260308T100000
END:DAYLIGHT
BEGIN:STANDARD
TZOFFSETFROM:-0700
TZOFFSETTO:-0800
TZNAME:PST
DTSTART:20261101T090000
END:STANDARD
BEGIN:DAYLIGHT
TZOFFSETFROM:-0800
TZOFFSETTO:-0700
TZNAME:PDT
DTSTART:20270314T100000
END:DAYLIGHT
BEGIN:STANDARD
TZOFFSETFROM:-0700
TZOFFSETTO:-0800
TZNAME:PST
DTSTART:20271107T090000
END:STANDARD
END:VTIMEZONE
BEGIN:VEVENT
DTSTART;VALUE=DATE:20260508
DTEND;VALUE=DATE:20260511
DTSTAMP:20260423T003231
CREATED:20260409T121012Z
LAST-MODIFIED:20260409T121012Z
UID:120748-1778198400-1778457599@canadianquilter.com
SUMMARY:Victoria Quilters' Guild:  City of Gardens Quilt Show and Sale
DESCRIPTION:Biennial Quilt Show featuring over 250 Quilts on Display\, Guild Store\, Merchant Mall\, featured Quilter\, Quilt Raffle\, Basket Raffle\, Bedturning\, Scavenger Hunt and more!
URL:https://canadianquilter.com/event/victoria-quilters-guild-city-of-gardens-quilt-show-and-sale/
LOCATION:pearkes and rec\, 3100 Tillicum Rd\, Victoria\, BC\, Canada
CATEGORIES:British Columbia
ORGANIZER;CN="Victoria Quilters Guild":MAILTO:suepfeifer1@outlook.com
END:VEVENT
BEGIN:VEVENT
DTSTART;TZID=America/Toronto:20260508T100000
DTEND;TZID=America/Toronto:20260510T170000
DTSTAMP:20260423T003231
CREATED:20260202T115426Z
LAST-MODIFIED:20260202T115426Z
UID:118488-1778234400-1778432400@canadianquilter.com
SUMMARY:City of Gardens Quilt show
DESCRIPTION:The Victoria Quilters’ Guild is excited to present our biennial City of Gardens Quilt Show and Sale. It features over 300 quilts plus displays\, vendors and raffles – and a guild Shop with hundreds of items from our very talented members.  This year we feature a couple of new events: a Bed Turning\, which will tell stories behind some notable quilts\, and a Featured Quilter – the award-winning Jennifer Watson.  We continue to support our Comfort Quilts Society’s work with the popular Quilt Raffle (3 gorgeous quilts) and Basket Raffle. \nWe have many award-winning quilters in our group and we look forward to welcoming you to our Mothers’ Day weekend Show. Bus trips are very welcome!
URL:https://canadianquilter.com/event/city-of-gardens-quilt-show/
LOCATION:G.R. Pearkes Recreation Centre\, 3100 Tillicum Road\, Victoria\, British Columbia
CATEGORIES:British Columbia
ATTACH;FMTTYPE=image/jpeg:https://canadianquilter.com/wp-content/uploads/2026/01/Poster.jpg
ORGANIZER;CN="Victoria Quilters Guild":MAILTO:suepfeifer1@outlook.com
END:VEVENT
BEGIN:VEVENT
DTSTART;TZID=America/Vancouver:20260529T100000
DTEND;TZID=America/Vancouver:20260530T170000
DTSTAMP:20260423T003231
CREATED:20260320T115756Z
LAST-MODIFIED:20260320T115756Z
UID:120400-1780048800-1780160400@canadianquilter.com
SUMMARY:Nanaimo Quilters' Guild Material Magic Show and Sale
DESCRIPTION:Nanaimo Quilter’s Guild Presents…Material Magic Quilt Show & Sale May 29 & 30\, 2026\nJoin us at the Nanaimo Curling Club\, 106 Wall Street\, May 29 and 30 for Material Magic\, our triennial show!\nOver 200 quilts\, merchant mall\, guild boutique\, light lunch\, live demonstrations\, and more to enjoy.\nRaffle includes stunning handmade quilts and quilted items.
URL:https://canadianquilter.com/event/nanaimo-quilters-guild-material-magic-show-and-sale/
LOCATION:Nanaimo Curling Club\, 106 Wall Street\, Nanaimo\, British Columbia\, V9R 1Z7\, Canada
CATEGORIES:British Columbia
ATTACH;FMTTYPE=image/png:https://canadianquilter.com/wp-content/uploads/2026/03/NanaimoQGposter2026.png
END:VEVENT
BEGIN:VEVENT
DTSTART;TZID=America/Toronto:20261023T170000
DTEND;TZID=America/Toronto:20261024T170000
DTSTAMP:20260423T003231
CREATED:20260407T133644Z
LAST-MODIFIED:20260407T133644Z
UID:120683-1792774800-1792861200@canadianquilter.com
SUMMARY:30 years of Piecemaking in the Valley
DESCRIPTION:Chilliwack Piecemakers presents 30 years of Piecemaking in the Fraser Valley \nJoin us on at the Chilliwack Alliance Church\, 8700 Young Road\, Chilliwack \nFriday Oct 23 5:00pm – 8:00pm \nSaturday Oct 24 9:00am – 4:00pm \n 
URL:https://canadianquilter.com/event/30-years-of-piecemaking-in-the-valley/
LOCATION:Chilliwack Alliance Church\, 8700 Young Road\, Chilliwack\, British Columbia\, V2P 4P4\, Canada
CATEGORIES:British Columbia
END:VEVENT
END:VCALENDAR