BEGIN:VCALENDAR
VERSION:2.0
PRODID:-//Canadian Quilters Association/Association Canadienne de la Courtepointe - ECPv6.15.20//NONSGML v1.0//EN
CALSCALE:GREGORIAN
METHOD:PUBLISH
X-WR-CALNAME:Canadian Quilters Association/Association Canadienne de la Courtepointe
X-ORIGINAL-URL:https://canadianquilter.com
X-WR-CALDESC:Events for Canadian Quilters Association/Association Canadienne de la Courtepointe
REFRESH-INTERVAL;VALUE=DURATION:PT1H
X-Robots-Tag:noindex
X-PUBLISHED-TTL:PT1H
BEGIN:VTIMEZONE
TZID:America/Vancouver
BEGIN:DAYLIGHT
TZOFFSETFROM:-0800
TZOFFSETTO:-0700
TZNAME:PDT
DTSTART:20230312T100000
END:DAYLIGHT
BEGIN:STANDARD
TZOFFSETFROM:-0700
TZOFFSETTO:-0800
TZNAME:PST
DTSTART:20231105T090000
END:STANDARD
BEGIN:DAYLIGHT
TZOFFSETFROM:-0800
TZOFFSETTO:-0700
TZNAME:PDT
DTSTART:20240310T100000
END:DAYLIGHT
BEGIN:STANDARD
TZOFFSETFROM:-0700
TZOFFSETTO:-0800
TZNAME:PST
DTSTART:20241103T090000
END:STANDARD
BEGIN:DAYLIGHT
TZOFFSETFROM:-0800
TZOFFSETTO:-0700
TZNAME:PDT
DTSTART:20250309T100000
END:DAYLIGHT
BEGIN:STANDARD
TZOFFSETFROM:-0700
TZOFFSETTO:-0800
TZNAME:PST
DTSTART:20251102T090000
END:STANDARD
BEGIN:DAYLIGHT
TZOFFSETFROM:-0800
TZOFFSETTO:-0700
TZNAME:PDT
DTSTART:20260308T100000
END:DAYLIGHT
BEGIN:STANDARD
TZOFFSETFROM:-0700
TZOFFSETTO:-0800
TZNAME:PST
DTSTART:20261101T090000
END:STANDARD
BEGIN:DAYLIGHT
TZOFFSETFROM:-0800
TZOFFSETTO:-0700
TZNAME:PDT
DTSTART:20270314T100000
END:DAYLIGHT
BEGIN:STANDARD
TZOFFSETFROM:-0700
TZOFFSETTO:-0800
TZNAME:PST
DTSTART:20271107T090000
END:STANDARD
END:VTIMEZONE
BEGIN:VTIMEZONE
TZID:America/Toronto
BEGIN:DAYLIGHT
TZOFFSETFROM:-0500
TZOFFSETTO:-0400
TZNAME:EDT
DTSTART:20230312T070000
END:DAYLIGHT
BEGIN:STANDARD
TZOFFSETFROM:-0400
TZOFFSETTO:-0500
TZNAME:EST
DTSTART:20231105T060000
END:STANDARD
BEGIN:DAYLIGHT
TZOFFSETFROM:-0500
TZOFFSETTO:-0400
TZNAME:EDT
DTSTART:20240310T070000
END:DAYLIGHT
BEGIN:STANDARD
TZOFFSETFROM:-0400
TZOFFSETTO:-0500
TZNAME:EST
DTSTART:20241103T060000
END:STANDARD
BEGIN:DAYLIGHT
TZOFFSETFROM:-0500
TZOFFSETTO:-0400
TZNAME:EDT
DTSTART:20250309T070000
END:DAYLIGHT
BEGIN:STANDARD
TZOFFSETFROM:-0400
TZOFFSETTO:-0500
TZNAME:EST
DTSTART:20251102T060000
END:STANDARD
BEGIN:DAYLIGHT
TZOFFSETFROM:-0500
TZOFFSETTO:-0400
TZNAME:EDT
DTSTART:20260308T070000
END:DAYLIGHT
BEGIN:STANDARD
TZOFFSETFROM:-0400
TZOFFSETTO:-0500
TZNAME:EST
DTSTART:20261101T060000
END:STANDARD
END:VTIMEZONE
BEGIN:VEVENT
DTSTART;TZID=America/Vancouver:20260417T100000
DTEND;TZID=America/Vancouver:20260418T160000
DTSTAMP:20260422T074250
CREATED:20260128T161605Z
LAST-MODIFIED:20260128T161659Z
UID:118116-1776420000-1776528000@canadianquilter.com
SUMMARY:Quilts In the Valley 2026
DESCRIPTION:April 17/26 10am-7pm\, April 18/26 10am-4pm. 200+ quilts\, Raffle Quilts\, Raffle Baskets\, Merchant Mall\, Tea Room\, Wheelchair Accessible and ample free parking.
URL:https://canadianquilter.com/event/quilts-in-the-valley-2026/
LOCATION:BC
CATEGORIES:British Columbia
END:VEVENT
BEGIN:VEVENT
DTSTART;TZID=America/Vancouver:20251101T100000
DTEND;TZID=America/Vancouver:20251123T160000
DTSTAMP:20260422T074250
CREATED:20251112T140004Z
LAST-MODIFIED:20251112T140004Z
UID:115127-1761991200-1763913600@canadianquilter.com
SUMMARY:An Exhibit of Fibre Art Poppy Quilts
DESCRIPTION:Peachland’s Pincushion Quilt Guild presents an Exhibit of Fibre Art Poppy Quilts for Rememberence Day.
URL:https://canadianquilter.com/event/an-exhibit-of-fibre-art-poppy-quilts/
LOCATION:Our Space\, 5684 Beach Ave\, Peachland\, BC\, Canada
CATEGORIES:British Columbia
ATTACH;FMTTYPE=image/jpeg:https://canadianquilter.com/wp-content/uploads/2025/10/1000003464.jpg
ORGANIZER;CN="Pincushion Quilt Guild%2C Peachland BC":MAILTO:pincushionquiltguild0@gmail.com
END:VEVENT
BEGIN:VEVENT
DTSTART;TZID=America/Vancouver:20251024T160000
DTEND;TZID=America/Vancouver:20251025T180000
DTSTAMP:20260422T074250
CREATED:20250409T144717Z
LAST-MODIFIED:20250819T140027Z
UID:96866-1761321600-1761415200@canadianquilter.com
SUMMARY:40 Years of Quilted Creations
DESCRIPTION:Chilliwack Quilters’ Guild biennial quilt show
URL:https://canadianquilter.com/event/40-years-of-quilted-creations/
LOCATION:Chilliwack Alliance Church\, 8700 Young Road\, Chilliwack\, British Columbia\, V2P 4P4\, Canada
CATEGORIES:British Columbia
ATTACH;FMTTYPE=image/jpeg:https://canadianquilter.com/wp-content/uploads/2025/03/Raffle-Quilt-2_cropped-sharp_halfsize.jpg
END:VEVENT
BEGIN:VEVENT
DTSTART;TZID=America/Vancouver:20250926T100000
DTEND;TZID=America/Vancouver:20250926T170000
DTSTAMP:20260422T074250
CREATED:20250409T145312Z
LAST-MODIFIED:20250409T145312Z
UID:89242-1758880800-1758906000@canadianquilter.com
SUMMARY:2025 Quilt Show - Quilters are Piece Makers
DESCRIPTION:Join us in Vernon BC this fall for our display of over 250 Quilts\, Merchant Mall\, Bed Turning\, Ticketed Evening Social or AM Coffee Break and Tea Room and QuArtz Feature Room.   Two days – Sept 26 10 – 5 (plus evening event)  Sept 27 10 – 4 (plus AM event)
URL:https://canadianquilter.com/event/2025-quilt-show-quilters-are-piece-makers/
LOCATION:Vernon Recreation Centre\, 3310 37 Avenue\, Vernon\, British Columbia\, Canada
CATEGORIES:British Columbia
ATTACH;FMTTYPE=image/jpeg:https://canadianquilter.com/wp-content/uploads/2025/03/VSSQ-QUILT-SHOW-SOCIAL-SQUARE-1200x1200-1.jpg
ORGANIZER;CN="Vernon Silver Star Quilters":MAILTO:vssqnews@gmail.com
END:VEVENT
BEGIN:VEVENT
DTSTART;VALUE=DATE:20250926
DTEND;VALUE=DATE:20250928
DTSTAMP:20260422T074250
CREATED:20250819T140339Z
LAST-MODIFIED:20250819T140339Z
UID:97400-1758844800-1759017599@canadianquilter.com
SUMMARY:Vernon Silver Star Quilters 2025 Quilt Show – Quilters Are Piece Makers
DESCRIPTION:The 2025 Vernon Silver Star Quilters will be holding its 2025 quilt show at the Vernon Recreation Centre Friday\, September 26\, 10 am -5 pm & Saturday\, September 27\, 10 am – 4 pm.  The show includes a merchant mall\, bed turning\, gift shop and tea room. The show admission fee is $10.00 per person.  As well\, there will be two exclusive ticketed events Friday\, September 26\, 7 pm – 9 pm and Saturday\, September 27\, 8 am – 10 am.  The $15.00 admission ticket includes admission to the show and refreshments.  Advanced ticketing is required.  For more information visit www.vssq.org.
URL:https://canadianquilter.com/event/vernon-silver-star-quilters-2025-quilt-show-quilters-are-piece-makers/
LOCATION:Vernon Recreation Centre\, 3310 37 Avenue\, Vernon\, British Columbia\, Canada
CATEGORIES:British Columbia
ATTACH;FMTTYPE=image/jpeg:https://canadianquilter.com/wp-content/uploads/2025/04/VSSQ-QUILT-SHOW-POSTER-2025.jpg
ORGANIZER;CN="Vernon Silver Star Quilters":MAILTO:vssqnews@gmail.com
END:VEVENT
BEGIN:VEVENT
DTSTART;VALUE=DATE:20250530
DTEND;VALUE=DATE:20250601
DTSTAMP:20260422T074250
CREATED:20250305T132017Z
LAST-MODIFIED:20250305T132017Z
UID:89147-1748563200-1748735999@canadianquilter.com
SUMMARY:SUNSHINE COAST QUILT SHOW
DESCRIPTION:Quilts Galore \nRaffle Prizes; basket draws; members boutique; merchant market – new this year colloboration with nonquilters; 2 on-site workshops \n700 Park Road Gibsons BC
URL:https://canadianquilter.com/event/sunshine-coast-quilt-show-2/
LOCATION:GibsonsAreaCommunityCentre\, 700 Park Road\, Gibsons\, British Columbia\, V0N 1V0
CATEGORIES:British Columbia
ATTACH;FMTTYPE=image/png:https://canadianquilter.com/wp-content/uploads/2025/03/QS-25-5x7-Postcard-front-1.png
ORGANIZER;CN="Sunshine Coast Quilters' Guild":MAILTO:msarling@hotmail.com
END:VEVENT
BEGIN:VEVENT
DTSTART;VALUE=DATE:20250530
DTEND;VALUE=DATE:20250601
DTSTAMP:20260422T074250
CREATED:20250206T130125Z
LAST-MODIFIED:20250206T130125Z
UID:87064-1748563200-1748735999@canadianquilter.com
SUMMARY:Sunshine Coast Quilt Show
DESCRIPTION:The Sunshine Coast Quilters’ Guild if holding its semi annual Quilt Show on May 30 and 31 at the Gibsons Area Community Centre\, 700 Park Road\, Gibsons\, B.C.  There will be raffle prizes\, basket draws\, members’ boutique\, merchant market and new this year is a collaboration of 25 members with 25 featured artists.  There will also be 2 on-site Workshops.
URL:https://canadianquilter.com/event/sunshine-coast-quilt-show/
LOCATION:GibsonsAreaCommunityCentre\, 700 Park Road\, Gibsons\, British Columbia\, V0N 1V0
CATEGORIES:British Columbia
ATTACH;FMTTYPE=image/jpeg:https://canadianquilter.com/wp-content/uploads/2025/01/IMG_20250130_132625.jpg
ORGANIZER;CN="Sunshine Coast Quilters' Guild":MAILTO:msarling@hotmail.com
END:VEVENT
BEGIN:VEVENT
DTSTART;VALUE=DATE:20250516
DTEND;VALUE=DATE:20250518
DTSTAMP:20260422T074250
CREATED:20250103T124310Z
LAST-MODIFIED:20250103T124310Z
UID:85616-1747353600-1747526399@canadianquilter.com
SUMMARY:Fraser Valley Quilters’ Guild show ‘Through Quilters’ Eyes’
DESCRIPTION:The Fraser Valley Quilters’ Guild is holding their show\, Through Quilters’ Eyes. A Tea room\, a Merchants Mall with some amazing local vendors and a Members Boutique are all included.\nMay 16 – 10am-5pm and May 17 – 10am-4pm at the Royal City Curling Club 75 E6th Ave\, New Westminster\, BC\nWebsite – fvqg.org
URL:https://canadianquilter.com/event/fraser-valley-quilters-guild-show-through-quilters-eyes-2/
LOCATION:Royal City Curling Club\, 75 E6th Avenue\, New Westminster\, British Columbia\, Canada
CATEGORIES:British Columbia
ATTACH;FMTTYPE=image/jpeg:https://canadianquilter.com/wp-content/uploads/2025/01/Quilt-Show-2025-Poster.jpeg
END:VEVENT
BEGIN:VEVENT
DTSTART;VALUE=DATE:20250516
DTEND;VALUE=DATE:20250518
DTSTAMP:20260422T074250
CREATED:20250102T131246Z
LAST-MODIFIED:20250102T131246Z
UID:85566-1747353600-1747526399@canadianquilter.com
SUMMARY:Fraser Valley Quilters’ Guild Show ‘Through Quilters’ Eyes’
DESCRIPTION:The Fraser Valley Quilters’ Guild is holding their show Through Quilters’ Eyes. Over 300 quilts on display with some special exhibits. A Tearoom\, Merchants Mall with some amazing local vendors and Member Boutique are included.
URL:https://canadianquilter.com/event/fraser-valley-quilters-guild-show-through-quilters-eyes/
LOCATION:BC
CATEGORIES:British Columbia
ATTACH;FMTTYPE=image/jpeg:https://canadianquilter.com/wp-content/uploads/2025/01/IMG_4092-scaled.jpeg
END:VEVENT
BEGIN:VEVENT
DTSTART;TZID=America/Vancouver:20250404T100000
DTEND;TZID=America/Vancouver:20250405T160000
DTSTAMP:20260422T074250
CREATED:20241119T130259Z
LAST-MODIFIED:20241119T130259Z
UID:84629-1743760800-1743868800@canadianquilter.com
SUMMARY:Sew Magic Quilt Show\, Victoria\, B.C
DESCRIPTION:The Westshore Quilter’s Guild in Langford BC will hold a quilt show on April 3-5\, 2025. It is a special celebration to commemorate our 20th anniversary as a guild. The quilt show starts with an evening Gala on April 3rd\,  7- 9 pm!  There will be Quilts on display in a wide variety of categories and techniques including all sizes of paper pieced quilts\, applique\, and art quilts. There will be vendors\, as well\, the guild will hold a boutique of handcrafted and quilted items for your shopping pleasure. A concession with a wonderful selection of snacks and beverages will be available as you wander our sew magic wonderland quilt show.
URL:https://canadianquilter.com/event/sew-magic-quilt-show-victoria-b-c/
LOCATION:Juan De Fuca Rec Centre\, 1767 Island Highway\, Colwood\, British Columbia\, V9B1J1\, Canada
CATEGORIES:British Columbia
ORGANIZER;CN="westshore Quilter's Guild Langford BC":MAILTO:wqgquiltshow@gmail.ca
END:VEVENT
BEGIN:VEVENT
DTSTART;TZID=America/Vancouver:20250322T100000
DTEND;TZID=America/Vancouver:20250323T160000
DTSTAMP:20260422T074250
CREATED:20250113T130148Z
LAST-MODIFIED:20250113T130148Z
UID:85985-1742637600-1742745600@canadianquilter.com
SUMMARY:Powell River Quilt Show ‘25
DESCRIPTION:Inspired by tradition…a celebration of today’s quilts. Join us in Powell River for the Timberlane Quilters’ Guild’s bi-annual show where approximately 200 quilts will be on display. Refreshments\, vendors\, raffles and door prizes! \nSaturday March 22 10am to 5pm.    Sunday March 23 10 am to 4pm.  Dwight Hall\, 6274 Walnut Street\, Townsite\, Powell River \nQuestions? Please contact our show marketing team at cyndyib@me.com or 604-223-9516
URL:https://canadianquilter.com/event/powell-river-quilt-show-25/
LOCATION:Dwight Hall\, Townsite\, Powell River\, 6274 Walnut Street\, Powell River\, British Columbia\, V8A5R2\, Canada
CATEGORIES:British Columbia
ATTACH;FMTTYPE=image/jpeg:https://canadianquilter.com/wp-content/uploads/2025/01/TQG-Quilt-Show-2025-poster-1.jpeg
ORGANIZER;CN="Timberlane Quilters' Guild":MAILTO:cyndyib@me.com
END:VEVENT
BEGIN:VEVENT
DTSTART;TZID=America/Vancouver:20241126T140000
DTEND;TZID=America/Vancouver:20241126T160000
DTSTAMP:20260422T074250
CREATED:20241008T143457Z
LAST-MODIFIED:20241008T143457Z
UID:80571-1732629600-1732636800@canadianquilter.com
SUMMARY:Quilting with Batiks
DESCRIPTION:As an Island Batik Ambassador for six years\, Jennifer Fulton learned a lot about working with batiks! In this lecture and trunk show\, she will share how batiks are made and how you can use them in your quilting. You’ll learn her tips and techniques for working with batiks\, the ways in which she loves to use them the most\, and some tips on mixing batiks with other fabrics.
URL:https://canadianquilter.com/event/quilting-with-batiks/
LOCATION:Richmond Cultural Centre Annex\, 7660 Minoru Gate\, Richmond\, British Columbia\, V6Y 1R9\, Canada
CATEGORIES:British Columbia
ATTACH;FMTTYPE=image/jpeg:https://canadianquilter.com/wp-content/uploads/2024/10/Quilting-with-Batiks.jpg
ORGANIZER;CN="Textile Arts Guild of Richmond (TAGOR)":MAILTO:tagor1975@outlook.com
END:VEVENT
BEGIN:VEVENT
DTSTART;TZID=America/Vancouver:20241029T150000
DTEND;TZID=America/Vancouver:20241029T170000
DTSTAMP:20260422T074250
CREATED:20241002T122809Z
LAST-MODIFIED:20241002T122809Z
UID:80363-1730214000-1730221200@canadianquilter.com
SUMMARY:Quilts As To War
DESCRIPTION:Canadian women made hundreds of thousands of quilts for people who had been devastated by WW II across the UK and other parts of Europe.  Join us to hear from researcher Joanna Dermenjian about this amazing charitable effort\, the women who participated and see some of the surviving quilts.   Connect with the past as we begin TAGOR’s 50th Anniversary Year!
URL:https://canadianquilter.com/event/quilts-as-to-war/
LOCATION:Richmond Cultural Centre Annex\, 7660 Minoru Gate\, Richmond\, British Columbia\, V6Y 1R9\, Canada
CATEGORIES:British Columbia
ATTACH;FMTTYPE=image/jpeg:https://canadianquilter.com/wp-content/uploads/2024/09/Quilting-As-To-War-Image.jpg
ORGANIZER;CN="Textile Arts Guild of Richmond (TAGOR)":MAILTO:tagor1975@outlook.com
END:VEVENT
BEGIN:VEVENT
DTSTART;TZID=America/Vancouver:20240823T100000
DTEND;TZID=America/Vancouver:20240825T150000
DTSTAMP:20260422T074250
CREATED:20240304T155058Z
LAST-MODIFIED:20240306T145518Z
UID:75139-1724407200-1724598000@canadianquilter.com
SUMMARY:City of Gardens Quilt Show and Sale
DESCRIPTION:Victoria Quilters” Guild presents Quilt Show and Sale in beautiful Victoria\, British Columbia. Over 250 quilts on display\, Guild Store and Merchant Mall. $10. Admission includes all three days.
URL:https://canadianquilter.com/event/city-of-gardens-quilt-show-and-sale/
LOCATION:G.R. Pearkes Recreation Centre\, 3100 Tillicum Road\, Victoria\, British Columbia
CATEGORIES:British Columbia
ATTACH;FMTTYPE=image/png:https://canadianquilter.com/wp-content/uploads/2024/03/VQG-2024-Poster-COMPRESSED.png
ORGANIZER;CN="Victoria Quilters Guild":MAILTO:suepfeifer1@outlook.com
END:VEVENT
BEGIN:VEVENT
DTSTART;TZID=America/Vancouver:20240614T090000
DTEND;TZID=America/Vancouver:20240615T170000
DTSTAMP:20260422T074250
CREATED:20240620T191103Z
LAST-MODIFIED:20240903T114733Z
UID:77394-1718355600-1718470800@canadianquilter.com
SUMMARY:Lions Gate Quilt Show 2024
DESCRIPTION:Over 200+ quilts on display\, vendors\, boutique\, tea room and education
URL:https://canadianquilter.com/event/lions-gate-quilt-show-2024/
LOCATION:Capilano University\, Purcell Way\, North Vancouver\, British Columbia\, Canada
CATEGORIES:British Columbia
ATTACH;FMTTYPE=image/jpeg:https://canadianquilter.com/wp-content/uploads/2024/06/IMG_2099-1-scaled.jpeg
ORGANIZER;CN="Lions Gate Quilters Guild":MAILTO:Publicity@lionsgatequiltersguild.com
END:VEVENT
BEGIN:VEVENT
DTSTART;TZID=America/Vancouver:20240607T100000
DTEND;TZID=America/Vancouver:20240609T150000
DTSTAMP:20260422T074250
CREATED:20240501T111702Z
LAST-MODIFIED:20240501T111702Z
UID:76495-1717754400-1717945200@canadianquilter.com
SUMMARY:Colour the World Quilt Show and Sale
DESCRIPTION:The Parksville Quilthouse Quilters Guild is hosting a 3-day Quilt Show and Sale on beautiful Vancouver Island.  The show runs from June 7-9\, 2024. \nFeaturing over 400 quilts on display\, a jam-packed boutique of goods made by our guild members\, raffle prizes\, a merchant mall and many other surprises.  Join us for 3 fabulous days in June.
URL:https://canadianquilter.com/event/colour-the-world-quilt-show-and-sale/
LOCATION:Oceanside Place Arena\, 830 Island Highway W.\, Parksville\, BC\, V9P 2X4\, Canada
CATEGORIES:British Columbia
ATTACH;FMTTYPE=image/jpeg:https://canadianquilter.com/wp-content/uploads/2024/04/2024-Poster.jpg
ORGANIZER;CN="Parksville Quilthouse Quilters Guild":MAILTO:quiltshow@quilthouse.ca
END:VEVENT
BEGIN:VEVENT
DTSTART;TZID=America/Toronto:20240607T100000
DTEND;TZID=America/Toronto:20240608T160000
DTSTAMP:20260422T074250
CREATED:20240219T214950Z
LAST-MODIFIED:20240219T214950Z
UID:74703-1717754400-1717862400@canadianquilter.com
SUMMARY:Quilts by the Beach
DESCRIPTION:This will be the Pincushion Quilt Guild’s first show since 2019\, and wow have we been busy! Come see the quilts and fibre art\, visit the Merchant Market\, enjoy a light lunch in the tea room\, and enjoy the camaraderie of fellow enthusiasts! The show will happen Friday/Saturday June 6 and 7\, from 10am to 4pm each day.
URL:https://canadianquilter.com/event/quilts-by-the-beach/
LOCATION:Peachland Community Center\, 4450 6th Street (at the corner of Beach Avenue)\, Peachland\, Ontario
CATEGORIES:British Columbia
ORGANIZER;CN="Pincushion Quilt Guild%2C Peachland BC":MAILTO:pincushionquiltguild0@gmail.com
END:VEVENT
BEGIN:VEVENT
DTSTART;VALUE=DATE:20240518
DTEND;VALUE=DATE:20240520
DTSTAMP:20260422T074250
CREATED:20240326T120121Z
LAST-MODIFIED:20240326T120121Z
UID:75743-1715990400-1716163199@canadianquilter.com
SUMMARY:Celebrating Quilts - Comox Valley Schoolhouse Quilters' Guild
DESCRIPTION:The Comox Valley Schoolhouse Quilters’ Guild will be hosting a Quilt Show ‘Celebrating Quilts’ on May 18 and 19 in Cumberland at the Cumberland Cultural Center. Guild Members will be displaying one of a kind\, exquisitely made quilts.  There will also be a Tea Room\, Quilt Raffle and a boutique where handmade items can be purchased.  Local vendors will also be attending the show with quilt supplies available. Join us Saturday May 18th\, 2024 – 10 am to 4 pm and Sunday May 19th\, 2024 – 10 am to 3 pm.  We look forward to seeing you at ‘Celebrating Quilts’ in the beautiful Comox Valley on Vancouver Island.
URL:https://canadianquilter.com/event/celebrating-quilts-comox-valley-schoolhouse-quilters-guild/
LOCATION:Cumberland Cultural Center\, 2674 Dunsmuir Ave\, Cumberland\, British Columbia\, V0R 1S0\, Canada
CATEGORIES:British Columbia
ATTACH;FMTTYPE=image/jpeg:https://canadianquilter.com/wp-content/uploads/2024/03/Celebrating-Quilts-2024-.jpg
END:VEVENT
BEGIN:VEVENT
DTSTART;TZID=America/Toronto:20240510T100000
DTEND;TZID=America/Toronto:20240511T160000
DTSTAMP:20260422T074250
CREATED:20240219T213910Z
LAST-MODIFIED:20240219T213910Z
UID:74685-1715335200-1715443200@canadianquilter.com
SUMMARY:The Threads That Bind Us
DESCRIPTION:Our First Quilt Show since 2018! We are happy to present works of our members in this usually biannual Quilt Show. There will be in excess of 300 quilts on display. Vendors\, Tea Room and Gift Shop
URL:https://canadianquilter.com/event/the-threads-that-bind-us/
LOCATION:The Threads That Bind Us\, 21277 - 56th Avenue\, Langley\, Ontario
CATEGORIES:British Columbia
ATTACH;FMTTYPE=image/jpeg:https://canadianquilter.com/wp-content/uploads/2024/02/quilt-show-poster_VqgK.jpg
ORGANIZER;CN="Langley Quilters' Guild":MAILTO:lqgshowchair@gmail.com
END:VEVENT
BEGIN:VEVENT
DTSTART;TZID=America/Toronto:20240504T100000
DTEND;TZID=America/Toronto:20240505T160000
DTSTAMP:20260422T074250
CREATED:20240219T213334Z
LAST-MODIFIED:20240219T213334Z
UID:74681-1714816800-1714924800@canadianquilter.com
SUMMARY:Quilts By The Bay VII
DESCRIPTION:Challenge Quilts\, Community Quilts\, Demonstrations\, Merchants’ Mall\, Guild Boutique\, Raffle Quilts\, Raffle Baskets and much more!
URL:https://canadianquilter.com/event/quilts-by-the-bay-vii/
LOCATION:South Delta Rec Centre\, 1720 56th St\, Tsawwassen (Delta)\, British Columbia
CATEGORIES:British Columbia
ORGANIZER;CN="Boundary Bay Quilters Guild":MAILTO:Boundary Bay Quilters Guild
END:VEVENT
BEGIN:VEVENT
DTSTART;VALUE=DATE:20240503
DTEND;VALUE=DATE:20240505
DTSTAMP:20260422T074250
CREATED:20240322T121615Z
LAST-MODIFIED:20240322T121615Z
UID:75688-1714694400-1714867199@canadianquilter.com
SUMMARY:Kamloops Sagebrush Quilters Guild Quilt Show
DESCRIPTION:The Sagebrush Quilters Guild is proud to announce their upcoming 2024 Quilt Show on Friday\, May 3 from 10 am to 6 pm and Saturday\, May 4 from 10 am to 4 pm at Our Lady of Perpetual Help (OLPH) Parish Centre at 635 Tranquille Road\, Kamloops\, BC.  \nThis event serves to showcase the extraordinary artistic handiwork of our members and invite the public to join our world of textile arts. The show will include a featured display of our community project quilts and our members’ entries into a Quilt Challenge. There will be a tea room\, a merchant’s mall\, door prizes\, and a Viewer’s Choice Award. Admission to the show is just $10. \nOur Quilt Raffle Grand Prize is a beautifully crafted large batik quilt\, 2nd Prize is an adorable gender neutral “Bunnies” Baby quilt\, and 3rd Prize is a lovely “Birdhouse” quilted wall hanging.   \nThe Sagebrush Quilters Guild includes 65 members who represent a wide range of interests\, focus and expertise in the textile arts. We create and distribute over 210 quilts per year to the Royal Inland Hospital’s cancer ward as well as to other community recipients. While creating quilts for both the community and for personal use we attend Workshop presentations\, Project and Program evenings\, “Quilt ’Til You Wilt” days\, and biannual Quilting Retreats to improve our skills and promote the perpetuation of our art form.   \nFor more information about our guild\, please feel free to visit our web site at https://www.sagebrushquiltersguild.ca/  or about our Quilt Show on our Facebook page at https://www.facebook.com/Kamloopsquiltshow \nContact Persons:  \nJudy Nichols\, 250-852-2467\, juclarmi@hotmail.com \nMonica Watson\, 250-377-8904\, northwatsons@telus.net
URL:https://canadianquilter.com/event/kamloops-sagebrush-quilters-guild-quilt-show/
LOCATION:Our Lady of Perpetual Help Parish Centre\, 635 Tranquille Road\, Kamloops\, BC\, V2B 3H5\, Canada
CATEGORIES:British Columbia
ATTACH;FMTTYPE=image/jpeg:https://canadianquilter.com/wp-content/uploads/2024/03/Poster_4-March-2024_2.jpg
ORGANIZER;CN="Kamloops Sagebrush Quilters Guild":MAILTO:juclarmi@hotmail.com
END:VEVENT
BEGIN:VEVENT
DTSTART;TZID=America/Toronto:20240426T093000
DTEND;TZID=America/Toronto:20240427T170000
DTSTAMP:20260422T074250
CREATED:20240219T192717Z
LAST-MODIFIED:20240219T192717Z
UID:74649-1714123800-1714237200@canadianquilter.com
SUMMARY:2024 Quilt Show
DESCRIPTION:Fri. & Sat.\, April 26 & 27\, 9:30 am – 5:00 pm each day.\nVendor market\, door prizes\, three raffle prize draws.\nGuild Boutique\, two featured quilters\, displays of\nCommunity and Baby quilts\, plus Challenge quilts.\nConcession available. Free parking. ATM on-site.\nUnder 12 free. Wheelchair accessible.
URL:https://canadianquilter.com/event/2024-quilt-show/
LOCATION:Penticton Trade and Convention Centre\, 273 Power Street\, Penticton\, British Columbia
CATEGORIES:British Columbia
ATTACH;FMTTYPE=image/jpeg:https://canadianquilter.com/wp-content/uploads/2024/02/CQA-event-cal-PQG_0FUj.jpg
ORGANIZER;CN="Penticton Quilters' Guild":MAILTO:quiltshow@pentictonquilters.com
END:VEVENT
END:VCALENDAR