BEGIN:VCALENDAR
VERSION:2.0
PRODID:-//Canadian Quilters Association/Association Canadienne de la Courtepointe - ECPv6.15.20//NONSGML v1.0//EN
CALSCALE:GREGORIAN
METHOD:PUBLISH
X-ORIGINAL-URL:https://canadianquilter.com
X-WR-CALDESC:Events for Canadian Quilters Association/Association Canadienne de la Courtepointe
REFRESH-INTERVAL;VALUE=DURATION:PT1H
X-Robots-Tag:noindex
X-PUBLISHED-TTL:PT1H
BEGIN:VTIMEZONE
TZID:America/Vancouver
BEGIN:DAYLIGHT
TZOFFSETFROM:-0800
TZOFFSETTO:-0700
TZNAME:PDT
DTSTART:20240310T100000
END:DAYLIGHT
BEGIN:STANDARD
TZOFFSETFROM:-0700
TZOFFSETTO:-0800
TZNAME:PST
DTSTART:20241103T090000
END:STANDARD
BEGIN:DAYLIGHT
TZOFFSETFROM:-0800
TZOFFSETTO:-0700
TZNAME:PDT
DTSTART:20250309T100000
END:DAYLIGHT
BEGIN:STANDARD
TZOFFSETFROM:-0700
TZOFFSETTO:-0800
TZNAME:PST
DTSTART:20251102T090000
END:STANDARD
BEGIN:DAYLIGHT
TZOFFSETFROM:-0800
TZOFFSETTO:-0700
TZNAME:PDT
DTSTART:20260308T100000
END:DAYLIGHT
BEGIN:STANDARD
TZOFFSETFROM:-0700
TZOFFSETTO:-0800
TZNAME:PST
DTSTART:20261101T090000
END:STANDARD
END:VTIMEZONE
BEGIN:VEVENT
DTSTART;TZID=America/Vancouver:20251024T160000
DTEND;TZID=America/Vancouver:20251025T180000
DTSTAMP:20260422T095520
CREATED:20250409T144717Z
LAST-MODIFIED:20250819T140027Z
UID:96866-1761321600-1761415200@canadianquilter.com
SUMMARY:40 Years of Quilted Creations
DESCRIPTION:Chilliwack Quilters’ Guild biennial quilt show
URL:https://canadianquilter.com/event/40-years-of-quilted-creations/
LOCATION:Chilliwack Alliance Church\, 8700 Young Road\, Chilliwack\, British Columbia\, V2P 4P4\, Canada
CATEGORIES:British Columbia
ATTACH;FMTTYPE=image/jpeg:https://canadianquilter.com/wp-content/uploads/2025/03/Raffle-Quilt-2_cropped-sharp_halfsize.jpg
END:VEVENT
END:VCALENDAR