BEGIN:VCALENDAR
VERSION:2.0
PRODID:-//Canadian Quilters Association/Association Canadienne de la Courtepointe - ECPv6.15.20//NONSGML v1.0//EN
CALSCALE:GREGORIAN
METHOD:PUBLISH
X-WR-CALNAME:Canadian Quilters Association/Association Canadienne de la Courtepointe
X-ORIGINAL-URL:https://canadianquilter.com
X-WR-CALDESC:Events for Canadian Quilters Association/Association Canadienne de la Courtepointe
REFRESH-INTERVAL;VALUE=DURATION:PT1H
X-Robots-Tag:noindex
X-PUBLISHED-TTL:PT1H
BEGIN:VTIMEZONE
TZID:America/Vancouver
BEGIN:DAYLIGHT
TZOFFSETFROM:-0800
TZOFFSETTO:-0700
TZNAME:PDT
DTSTART:20230312T100000
END:DAYLIGHT
BEGIN:STANDARD
TZOFFSETFROM:-0700
TZOFFSETTO:-0800
TZNAME:PST
DTSTART:20231105T090000
END:STANDARD
BEGIN:DAYLIGHT
TZOFFSETFROM:-0800
TZOFFSETTO:-0700
TZNAME:PDT
DTSTART:20240310T100000
END:DAYLIGHT
BEGIN:STANDARD
TZOFFSETFROM:-0700
TZOFFSETTO:-0800
TZNAME:PST
DTSTART:20241103T090000
END:STANDARD
BEGIN:DAYLIGHT
TZOFFSETFROM:-0800
TZOFFSETTO:-0700
TZNAME:PDT
DTSTART:20250309T100000
END:DAYLIGHT
BEGIN:STANDARD
TZOFFSETFROM:-0700
TZOFFSETTO:-0800
TZNAME:PST
DTSTART:20251102T090000
END:STANDARD
END:VTIMEZONE
BEGIN:VEVENT
DTSTART;TZID=America/Vancouver:20241029T150000
DTEND;TZID=America/Vancouver:20241029T170000
DTSTAMP:20260423T042355
CREATED:20241002T122809Z
LAST-MODIFIED:20241002T122809Z
UID:80363-1730214000-1730221200@canadianquilter.com
SUMMARY:Quilts As To War
DESCRIPTION:Canadian women made hundreds of thousands of quilts for people who had been devastated by WW II across the UK and other parts of Europe.  Join us to hear from researcher Joanna Dermenjian about this amazing charitable effort\, the women who participated and see some of the surviving quilts.   Connect with the past as we begin TAGOR’s 50th Anniversary Year!
URL:https://canadianquilter.com/event/quilts-as-to-war/
LOCATION:Richmond Cultural Centre Annex\, 7660 Minoru Gate\, Richmond\, British Columbia\, V6Y 1R9\, Canada
CATEGORIES:British Columbia
ATTACH;FMTTYPE=image/jpeg:https://canadianquilter.com/wp-content/uploads/2024/09/Quilting-As-To-War-Image.jpg
ORGANIZER;CN="Textile Arts Guild of Richmond (TAGOR)":MAILTO:tagor1975@outlook.com
END:VEVENT
END:VCALENDAR