BEGIN:VCALENDAR
VERSION:2.0
PRODID:-//Canadian Quilters Association/Association Canadienne de la Courtepointe - ECPv6.15.20//NONSGML v1.0//EN
CALSCALE:GREGORIAN
METHOD:PUBLISH
X-ORIGINAL-URL:https://canadianquilter.com
X-WR-CALDESC:Events for Canadian Quilters Association/Association Canadienne de la Courtepointe
REFRESH-INTERVAL;VALUE=DURATION:PT1H
X-Robots-Tag:noindex
X-PUBLISHED-TTL:PT1H
BEGIN:VTIMEZONE
TZID:America/Vancouver
BEGIN:DAYLIGHT
TZOFFSETFROM:-0800
TZOFFSETTO:-0700
TZNAME:PDT
DTSTART:20230312T100000
END:DAYLIGHT
BEGIN:STANDARD
TZOFFSETFROM:-0700
TZOFFSETTO:-0800
TZNAME:PST
DTSTART:20231105T090000
END:STANDARD
BEGIN:DAYLIGHT
TZOFFSETFROM:-0800
TZOFFSETTO:-0700
TZNAME:PDT
DTSTART:20240310T100000
END:DAYLIGHT
BEGIN:STANDARD
TZOFFSETFROM:-0700
TZOFFSETTO:-0800
TZNAME:PST
DTSTART:20241103T090000
END:STANDARD
BEGIN:DAYLIGHT
TZOFFSETFROM:-0800
TZOFFSETTO:-0700
TZNAME:PDT
DTSTART:20250309T100000
END:DAYLIGHT
BEGIN:STANDARD
TZOFFSETFROM:-0700
TZOFFSETTO:-0800
TZNAME:PST
DTSTART:20251102T090000
END:STANDARD
END:VTIMEZONE
BEGIN:VEVENT
DTSTART;TZID=America/Vancouver:20240823T100000
DTEND;TZID=America/Vancouver:20240825T150000
DTSTAMP:20260423T083949
CREATED:20240304T155058Z
LAST-MODIFIED:20240306T145518Z
UID:75139-1724407200-1724598000@canadianquilter.com
SUMMARY:City of Gardens Quilt Show and Sale
DESCRIPTION:Victoria Quilters” Guild presents Quilt Show and Sale in beautiful Victoria\, British Columbia. Over 250 quilts on display\, Guild Store and Merchant Mall. $10. Admission includes all three days.
URL:https://canadianquilter.com/event/city-of-gardens-quilt-show-and-sale/
LOCATION:G.R. Pearkes Recreation Centre\, 3100 Tillicum Road\, Victoria\, British Columbia
CATEGORIES:British Columbia
ATTACH;FMTTYPE=image/png:https://canadianquilter.com/wp-content/uploads/2024/03/VQG-2024-Poster-COMPRESSED.png
ORGANIZER;CN="Victoria Quilters Guild":MAILTO:suepfeifer1@outlook.com
END:VEVENT
END:VCALENDAR