BEGIN:VCALENDAR
VERSION:2.0
PRODID:-//Canadian Quilters Association/Association Canadienne de la Courtepointe - ECPv6.15.20//NONSGML v1.0//EN
CALSCALE:GREGORIAN
METHOD:PUBLISH
X-ORIGINAL-URL:https://canadianquilter.com
X-WR-CALDESC:Events for Canadian Quilters Association/Association Canadienne de la Courtepointe
REFRESH-INTERVAL;VALUE=DURATION:PT1H
X-Robots-Tag:noindex
X-PUBLISHED-TTL:PT1H
BEGIN:VTIMEZONE
TZID:America/Toronto
BEGIN:DAYLIGHT
TZOFFSETFROM:-0500
TZOFFSETTO:-0400
TZNAME:EDT
DTSTART:20240310T070000
END:DAYLIGHT
BEGIN:STANDARD
TZOFFSETFROM:-0400
TZOFFSETTO:-0500
TZNAME:EST
DTSTART:20241103T060000
END:STANDARD
BEGIN:DAYLIGHT
TZOFFSETFROM:-0500
TZOFFSETTO:-0400
TZNAME:EDT
DTSTART:20250309T070000
END:DAYLIGHT
BEGIN:STANDARD
TZOFFSETFROM:-0400
TZOFFSETTO:-0500
TZNAME:EST
DTSTART:20251102T060000
END:STANDARD
BEGIN:DAYLIGHT
TZOFFSETFROM:-0500
TZOFFSETTO:-0400
TZNAME:EDT
DTSTART:20260308T070000
END:DAYLIGHT
BEGIN:STANDARD
TZOFFSETFROM:-0400
TZOFFSETTO:-0500
TZNAME:EST
DTSTART:20261101T060000
END:STANDARD
END:VTIMEZONE
BEGIN:VEVENT
DTSTART;TZID=America/Toronto:20250606T100000
DTEND;TZID=America/Toronto:20250607T160000
DTSTAMP:20260421T083338
CREATED:20250117T124608Z
LAST-MODIFIED:20250117T124608Z
UID:86398-1749204000-1749312000@canadianquilter.com
SUMMARY:Edmonton Quilt Festival 2025
DESCRIPTION:Honour the Past\, Embrace the Future \nPresented by Edmonton and District Quilters’ Guild \nFriday June 6\, 10am – 6pm & Saturday June 7 10am- 4pm \nWorkshops & breakfast presentation; Special Exhibits; Kathy Logan de Chavez\, feature quilter; Prizes; Merchant Mall \nGeneral Admission $15.00 \nTickets: Eventbrite or cash at the door. \nKeep checking our website for updates.  https://edqg.ca/
URL:https://canadianquilter.com/event/edmonton-quilt-festival-2025/
LOCATION:Saville Community Sports (Curling) Centre\, 11610 - 65 Ave NW\, Edmonton\, Alberta\, Canada
CATEGORIES:Alberta
ATTACH;FMTTYPE=image/jpeg:https://canadianquilter.com/wp-content/uploads/2025/01/CQA-picture.jpg
END:VEVENT
BEGIN:VEVENT
DTSTART;TZID=America/Toronto:20250620T100000
DTEND;TZID=America/Toronto:20250621T160000
DTSTAMP:20260421T083338
CREATED:20250113T125049Z
LAST-MODIFIED:20250113T125049Z
UID:86009-1750413600-1750521600@canadianquilter.com
SUMMARY:Stitches in Time
DESCRIPTION:Display of Quilts made by members\, Charity Raffle Quilt\, Coffee Room\, Guild display room of events held during the past 2 years including involvement in the community\, member challenge quilts (can only use recycled material ) and several Venders. \nJune 20\, 2025 from 10 am to 6 pm\, and June 21\, 2025 from 10 am to 4 pm\, mountain standard time.
URL:https://canadianquilter.com/event/stitches-in-time/
LOCATION:Chuck Maclean Arts Centre\, 4809-52 st\, Camrose\, Alberta\, Canada
CATEGORIES:Alberta
END:VEVENT
END:VCALENDAR