BEGIN:VCALENDAR
VERSION:2.0
PRODID:-//Canadian Quilters Association/Association Canadienne de la Courtepointe - ECPv6.15.20//NONSGML v1.0//EN
CALSCALE:GREGORIAN
METHOD:PUBLISH
X-ORIGINAL-URL:https://canadianquilter.com
X-WR-CALDESC:Events for Canadian Quilters Association/Association Canadienne de la Courtepointe
REFRESH-INTERVAL;VALUE=DURATION:PT1H
X-Robots-Tag:noindex
X-PUBLISHED-TTL:PT1H
BEGIN:VTIMEZONE
TZID:America/Toronto
BEGIN:DAYLIGHT
TZOFFSETFROM:-0500
TZOFFSETTO:-0400
TZNAME:EDT
DTSTART:20240310T070000
END:DAYLIGHT
BEGIN:STANDARD
TZOFFSETFROM:-0400
TZOFFSETTO:-0500
TZNAME:EST
DTSTART:20241103T060000
END:STANDARD
BEGIN:DAYLIGHT
TZOFFSETFROM:-0500
TZOFFSETTO:-0400
TZNAME:EDT
DTSTART:20250309T070000
END:DAYLIGHT
BEGIN:STANDARD
TZOFFSETFROM:-0400
TZOFFSETTO:-0500
TZNAME:EST
DTSTART:20251102T060000
END:STANDARD
BEGIN:DAYLIGHT
TZOFFSETFROM:-0500
TZOFFSETTO:-0400
TZNAME:EDT
DTSTART:20260308T070000
END:DAYLIGHT
BEGIN:STANDARD
TZOFFSETFROM:-0400
TZOFFSETTO:-0500
TZNAME:EST
DTSTART:20261101T060000
END:STANDARD
END:VTIMEZONE
BEGIN:VEVENT
DTSTART;VALUE=DATE:20250509
DTEND;VALUE=DATE:20250511
DTSTAMP:20260421T095634
CREATED:20241202T124351Z
LAST-MODIFIED:20241202T124351Z
UID:84860-1746748800-1746921599@canadianquilter.com
SUMMARY:Central Alberta Quilters Guild Quilt Show and Merchant Mall 2025
DESCRIPTION:Friday\, May 9\, 2025 10 am-6 pm\, Saturday\, May 10\, 2025 10 am – 4 pm.  Admission $15\, Children 12 & under free. Location: Exhibition Hall\, Westerner Park (southernmost building)\, 4847 -19 st\, Red Deer\, Alberta.  Diverse range of over 200 quilts created from across\nCentral Alberta. Over 30 vendors from across Canada\, unique lectures\, and demos.
URL:https://canadianquilter.com/event/central-alberta-quilters-guild-quilt-show-and-merchant-mall-2025/
LOCATION:Alberta
CATEGORIES:Alberta
END:VEVENT
END:VCALENDAR